BEGIN:VCALENDAR
VERSION:2.0
PRODID:-//studiooostwest.nl - ECPv6.15.20//NONSGML v1.0//EN
CALSCALE:GREGORIAN
METHOD:PUBLISH
X-ORIGINAL-URL:https://studiooostwest.nl
X-WR-CALDESC:Evenementen voor studiooostwest.nl
REFRESH-INTERVAL;VALUE=DURATION:PT1H
X-Robots-Tag:noindex
X-PUBLISHED-TTL:PT1H
BEGIN:VTIMEZONE
TZID:Europe/Amsterdam
BEGIN:DAYLIGHT
TZOFFSETFROM:+0100
TZOFFSETTO:+0200
TZNAME:CEST
DTSTART:20300331T010000
END:DAYLIGHT
BEGIN:STANDARD
TZOFFSETFROM:+0200
TZOFFSETTO:+0100
TZNAME:CET
DTSTART:20301027T010000
END:STANDARD
BEGIN:DAYLIGHT
TZOFFSETFROM:+0100
TZOFFSETTO:+0200
TZNAME:CEST
DTSTART:20310330T010000
END:DAYLIGHT
BEGIN:STANDARD
TZOFFSETFROM:+0200
TZOFFSETTO:+0100
TZNAME:CET
DTSTART:20311026T010000
END:STANDARD
BEGIN:DAYLIGHT
TZOFFSETFROM:+0100
TZOFFSETTO:+0200
TZNAME:CEST
DTSTART:20320328T010000
END:DAYLIGHT
BEGIN:STANDARD
TZOFFSETFROM:+0200
TZOFFSETTO:+0100
TZNAME:CET
DTSTART:20321031T010000
END:STANDARD
END:VTIMEZONE
BEGIN:VEVENT
DTSTART;TZID=Europe/Amsterdam:20310306T194500
DTEND;TZID=Europe/Amsterdam:20310306T210000
DTSTAMP:20260422T041241
CREATED:20260225T121123Z
LAST-MODIFIED:20260416T200632Z
UID:10006157-1930592700-1930597200@studiooostwest.nl
SUMMARY:Hatha Yoga met Geesje
DESCRIPTION:Hatha Yoga is een wekelijkse les op Donderdagavond in groepsverband. \n\n\n\nKorte omschrijving Event: Dynamische yogales zowel voor beginners als meer ervaren deelnemers. De les omvat staande\, zittende en liggende houdingen waarin de adem een centrale plaats inneemt. Prānāyāma (oefeningen in het beheersen van de adem) en meditatie zijn vaste onderdelen. Onderwerpen uit de yogafilosofie zijn regelmatig het uitgangspunt voor het thema van een les. De les eindigt met een ontspanningsoefening. \n\n\n\nMaak nu gebruik van het kennismakingsaanbod: 3 lessen voor € 30\,- \n\n\n\nMeer info: www.yogametgeesje.nl \n\n\n\nLocatie: Studio Oost West\, Westblaak 146\, 9e verdieping\, Ingang Hal A. Aanbellen: Op het toetspaneel 9 intoetsen\, dan met de pijltjes naar Shen\, dan het belsymbool intoetsen. \n\n\n\nInloop: Vanaf 19.30 uur
URL:https://studiooostwest.nl/activiteit/hatha-yoga-met-geesje/2031-03-06/
ORGANIZER;CN="Geesje Haensel":MAILTO:info@yogametgeesje.nl
END:VEVENT
BEGIN:VEVENT
DTSTART;TZID=Europe/Amsterdam:20310307T163000
DTEND;TZID=Europe/Amsterdam:20310307T180000
DTSTAMP:20260422T041241
CREATED:20260330T105312Z
LAST-MODIFIED:20260403T173356Z
UID:10005890-1930667400-1930672800@studiooostwest.nl
SUMMARY:Twee-wekelijks op vrijdag: Energetische meditatie door Sylvia Tuankotta
DESCRIPTION:Introductie in Energetische Meditatie met Sylvia Tuankotta. Sylvia is Energetisch Therapeut en Trainer Energetische Meditatie.De druk van buitenaf (relaties\, werk) en van binnenuit (emoties\, kwalen\, ziekten) werkt stagnerend op onze energie. Het lijkt of al die invloeden je overkomen. Door Energetische Meditatie geef je bewust sturing aan je bestaan. Je gaat ‘lichter’ leven!  Je combineert op een praktische manier het mediteren met energetische oefeningen. Kom eens langs op een vrijdag om af te schalen van misschien wel een drukke week en laat je inspireren! Zie voor meer info en uitleg: www.tuankotta.nlInloop: Vanaf 16.00 uurKosten: Euro 20\,00 per workshopLocatie: Studio Oost West\, Westblaak 122 Unit C\, Ruimte: Nieuwe Haven op de begane grond
URL:https://studiooostwest.nl/activiteit/wekelijks-op-vrijdag-energetische-meditatie-door-sylvia-tuankotta/2031-03-07/
ORGANIZER;CN="Sylvia Tuankotta":MAILTO:sylvia@tuankotta.nl
END:VEVENT
BEGIN:VEVENT
DTSTART;TZID=Europe/Amsterdam:20310310T090000
DTEND;TZID=Europe/Amsterdam:20310310T101500
DTSTAMP:20260422T041241
CREATED:20260323T162011Z
LAST-MODIFIED:20260417T083501Z
UID:10006679-1930899600-1930904100@studiooostwest.nl
SUMMARY:Hatha Yoga met Geesje
DESCRIPTION:Hatha Yoga is een wekelijkse les op Maandag in groepsverband.  \n\n\n\nKorte omschrijving Event: Dynamische yogales zowel voor beginners als meer ervaren deelnemers. De les omvat staande\, zittende en liggende houdingen waarin de adem een centrale plaats inneemt. Prānāyāma (oefeningen in het beheersen van de adem) en meditatie zijn vaste onderdelen. Onderwerpen uit de yogafilosofie zijn regelmatig het uitgangspunt voor het thema van een les. De les eindigt met een ontspanningsoefening. \n\n\n\nMaak nu gebruik van het kennismakingsaanbod: 3 lessen voor € 30\,- \n\n\n\nMeer info: www.yogametgeesje.nl \n\n\n\nLocatie: Studio Oost West\, Westblaak 146\, 9e verdieping\, Ingang Hal A. Aanbellen: Op het toetspaneel 9 intoetsen\, dan met de pijltjes naar Shen\, dan het belsymbool intoetsen. \n\n\n\nInloop: Vanaf 9.00 uur
URL:https://studiooostwest.nl/activiteit/hatha-yoga-met-geesje-2/2031-03-10/
ORGANIZER;CN="Geesje Haensel":MAILTO:info@yogametgeesje.nl
END:VEVENT
BEGIN:VEVENT
DTSTART;TZID=Europe/Amsterdam:20310310T110000
DTEND;TZID=Europe/Amsterdam:20310310T121500
DTSTAMP:20260422T041241
CREATED:20260415T134214Z
LAST-MODIFIED:20260417T081245Z
UID:10006418-1930906800-1930911300@studiooostwest.nl
SUMMARY:Milde Yoga met Geesje
DESCRIPTION:Milde yoga is een wekelijkse les op maandagochtend in groepsverband \n\n\n\nBevat een gewone les te veel uitdaging voor je? Vanwege je leeftijd of een blessure\, dan kan een milde les toegankelijker voor je zijn. Zachtere oefeningen die minder lang worden aangehouden. Veel aandacht voor het soepel houden van de gewrichten. Je gaat uit van de mogelijkheden die jij op dit moment hebt. De les eindigt met een lange ontspanning. \n\n\n\nMaak nu gebruik van het kennismakingsaanbod: 3 lessen voor € 30\,– \n\n\n\nLocatie: Studio Oost West\, Westblaak 146\, 9e verdieping\, Ingang Hal A. Aanbellen: Op het toetspaneel 9 intoetsen\, dan met de pijltjes naar Shen\, dan het belsymbool intoetsen. \n\n\n\nInloop: Vanaf 10.45 uur
URL:https://studiooostwest.nl/activiteit/milde-yoga-met-geesje-2/2031-03-10/
ORGANIZER;CN="Geesje Haensel":MAILTO:info@yogametgeesje.nl
END:VEVENT
BEGIN:VEVENT
DTSTART;TZID=Europe/Amsterdam:20310311T200000
DTEND;TZID=Europe/Amsterdam:20310311T211500
DTSTAMP:20260422T041241
CREATED:20260325T135921Z
LAST-MODIFIED:20260325T205736Z
UID:10005717-1931025600-1931030100@studiooostwest.nl
SUMMARY:Gyrokinesis door Alina Jacobs
DESCRIPTION:De lessen vinden plaats in Studio Oost West (Shen Ruimte) \nIn de Gyrokinesis groep sessies voor volwassenen leer jij om de behoeftes van je lichaam te begrijpen en te respecteren en om zelfstandig voor je lichaam te zorgen. Ik begeleid jou naar innerlijke comfort en rust met het idee: “your body is your home”. Je gaat kennis over je lichaam vergaren\, je gaat in staat zijn om bewegingen aandachtig en bewust uit te voeren en je bouwt een repertoire aan oefeningen op waarmee je zelf vitaliteit en balans kunt genereren in je dagelijkse leven. Met mijn respectvolle en menselijke benadering gedurende het hele leer- en trainingsproces zal je gauw zowel meer geaard als lichter in je lichaam voelen. \nVoor meer informatieEmail: alina.jacobs@online.deTel: 0624539332 \nGYROTONIC® and GYROKINESIS® are registered trademarks of Gyrotonic Sales Corp and are used with their permission.
URL:https://studiooostwest.nl/activiteit/gyrokinesis-door-alina-jacobs-2/2031-03-11/
ORGANIZER;CN="Alina Jacobs":MAILTO:alina.jacobs@online.de
END:VEVENT
BEGIN:VEVENT
DTSTART;TZID=Europe/Amsterdam:20310313T194500
DTEND;TZID=Europe/Amsterdam:20310313T210000
DTSTAMP:20260422T041241
CREATED:20260225T121123Z
LAST-MODIFIED:20260416T200632Z
UID:10006158-1931197500-1931202000@studiooostwest.nl
SUMMARY:Hatha Yoga met Geesje
DESCRIPTION:Hatha Yoga is een wekelijkse les op Donderdagavond in groepsverband. \n\n\n\nKorte omschrijving Event: Dynamische yogales zowel voor beginners als meer ervaren deelnemers. De les omvat staande\, zittende en liggende houdingen waarin de adem een centrale plaats inneemt. Prānāyāma (oefeningen in het beheersen van de adem) en meditatie zijn vaste onderdelen. Onderwerpen uit de yogafilosofie zijn regelmatig het uitgangspunt voor het thema van een les. De les eindigt met een ontspanningsoefening. \n\n\n\nMaak nu gebruik van het kennismakingsaanbod: 3 lessen voor € 30\,- \n\n\n\nMeer info: www.yogametgeesje.nl \n\n\n\nLocatie: Studio Oost West\, Westblaak 146\, 9e verdieping\, Ingang Hal A. Aanbellen: Op het toetspaneel 9 intoetsen\, dan met de pijltjes naar Shen\, dan het belsymbool intoetsen. \n\n\n\nInloop: Vanaf 19.30 uur
URL:https://studiooostwest.nl/activiteit/hatha-yoga-met-geesje/2031-03-13/
ORGANIZER;CN="Geesje Haensel":MAILTO:info@yogametgeesje.nl
END:VEVENT
BEGIN:VEVENT
DTSTART;TZID=Europe/Amsterdam:20310317T090000
DTEND;TZID=Europe/Amsterdam:20310317T101500
DTSTAMP:20260422T041241
CREATED:20260323T162011Z
LAST-MODIFIED:20260417T083501Z
UID:10006680-1931504400-1931508900@studiooostwest.nl
SUMMARY:Hatha Yoga met Geesje
DESCRIPTION:Hatha Yoga is een wekelijkse les op Maandag in groepsverband.  \n\n\n\nKorte omschrijving Event: Dynamische yogales zowel voor beginners als meer ervaren deelnemers. De les omvat staande\, zittende en liggende houdingen waarin de adem een centrale plaats inneemt. Prānāyāma (oefeningen in het beheersen van de adem) en meditatie zijn vaste onderdelen. Onderwerpen uit de yogafilosofie zijn regelmatig het uitgangspunt voor het thema van een les. De les eindigt met een ontspanningsoefening. \n\n\n\nMaak nu gebruik van het kennismakingsaanbod: 3 lessen voor € 30\,- \n\n\n\nMeer info: www.yogametgeesje.nl \n\n\n\nLocatie: Studio Oost West\, Westblaak 146\, 9e verdieping\, Ingang Hal A. Aanbellen: Op het toetspaneel 9 intoetsen\, dan met de pijltjes naar Shen\, dan het belsymbool intoetsen. \n\n\n\nInloop: Vanaf 9.00 uur
URL:https://studiooostwest.nl/activiteit/hatha-yoga-met-geesje-2/2031-03-17/
ORGANIZER;CN="Geesje Haensel":MAILTO:info@yogametgeesje.nl
END:VEVENT
BEGIN:VEVENT
DTSTART;TZID=Europe/Amsterdam:20310317T110000
DTEND;TZID=Europe/Amsterdam:20310317T121500
DTSTAMP:20260422T041241
CREATED:20260415T134214Z
LAST-MODIFIED:20260417T081245Z
UID:10006419-1931511600-1931516100@studiooostwest.nl
SUMMARY:Milde Yoga met Geesje
DESCRIPTION:Milde yoga is een wekelijkse les op maandagochtend in groepsverband \n\n\n\nBevat een gewone les te veel uitdaging voor je? Vanwege je leeftijd of een blessure\, dan kan een milde les toegankelijker voor je zijn. Zachtere oefeningen die minder lang worden aangehouden. Veel aandacht voor het soepel houden van de gewrichten. Je gaat uit van de mogelijkheden die jij op dit moment hebt. De les eindigt met een lange ontspanning. \n\n\n\nMaak nu gebruik van het kennismakingsaanbod: 3 lessen voor € 30\,– \n\n\n\nLocatie: Studio Oost West\, Westblaak 146\, 9e verdieping\, Ingang Hal A. Aanbellen: Op het toetspaneel 9 intoetsen\, dan met de pijltjes naar Shen\, dan het belsymbool intoetsen. \n\n\n\nInloop: Vanaf 10.45 uur
URL:https://studiooostwest.nl/activiteit/milde-yoga-met-geesje-2/2031-03-17/
ORGANIZER;CN="Geesje Haensel":MAILTO:info@yogametgeesje.nl
END:VEVENT
BEGIN:VEVENT
DTSTART;TZID=Europe/Amsterdam:20310318T200000
DTEND;TZID=Europe/Amsterdam:20310318T211500
DTSTAMP:20260422T041241
CREATED:20260325T135921Z
LAST-MODIFIED:20260325T205736Z
UID:10005718-1931630400-1931634900@studiooostwest.nl
SUMMARY:Gyrokinesis door Alina Jacobs
DESCRIPTION:De lessen vinden plaats in Studio Oost West (Shen Ruimte) \nIn de Gyrokinesis groep sessies voor volwassenen leer jij om de behoeftes van je lichaam te begrijpen en te respecteren en om zelfstandig voor je lichaam te zorgen. Ik begeleid jou naar innerlijke comfort en rust met het idee: “your body is your home”. Je gaat kennis over je lichaam vergaren\, je gaat in staat zijn om bewegingen aandachtig en bewust uit te voeren en je bouwt een repertoire aan oefeningen op waarmee je zelf vitaliteit en balans kunt genereren in je dagelijkse leven. Met mijn respectvolle en menselijke benadering gedurende het hele leer- en trainingsproces zal je gauw zowel meer geaard als lichter in je lichaam voelen. \nVoor meer informatieEmail: alina.jacobs@online.deTel: 0624539332 \nGYROTONIC® and GYROKINESIS® are registered trademarks of Gyrotonic Sales Corp and are used with their permission.
URL:https://studiooostwest.nl/activiteit/gyrokinesis-door-alina-jacobs-2/2031-03-18/
ORGANIZER;CN="Alina Jacobs":MAILTO:alina.jacobs@online.de
END:VEVENT
BEGIN:VEVENT
DTSTART;TZID=Europe/Amsterdam:20310320T194500
DTEND;TZID=Europe/Amsterdam:20310320T210000
DTSTAMP:20260422T041241
CREATED:20260225T121123Z
LAST-MODIFIED:20260416T200632Z
UID:10006159-1931802300-1931806800@studiooostwest.nl
SUMMARY:Hatha Yoga met Geesje
DESCRIPTION:Hatha Yoga is een wekelijkse les op Donderdagavond in groepsverband. \n\n\n\nKorte omschrijving Event: Dynamische yogales zowel voor beginners als meer ervaren deelnemers. De les omvat staande\, zittende en liggende houdingen waarin de adem een centrale plaats inneemt. Prānāyāma (oefeningen in het beheersen van de adem) en meditatie zijn vaste onderdelen. Onderwerpen uit de yogafilosofie zijn regelmatig het uitgangspunt voor het thema van een les. De les eindigt met een ontspanningsoefening. \n\n\n\nMaak nu gebruik van het kennismakingsaanbod: 3 lessen voor € 30\,- \n\n\n\nMeer info: www.yogametgeesje.nl \n\n\n\nLocatie: Studio Oost West\, Westblaak 146\, 9e verdieping\, Ingang Hal A. Aanbellen: Op het toetspaneel 9 intoetsen\, dan met de pijltjes naar Shen\, dan het belsymbool intoetsen. \n\n\n\nInloop: Vanaf 19.30 uur
URL:https://studiooostwest.nl/activiteit/hatha-yoga-met-geesje/2031-03-20/
ORGANIZER;CN="Geesje Haensel":MAILTO:info@yogametgeesje.nl
END:VEVENT
BEGIN:VEVENT
DTSTART;TZID=Europe/Amsterdam:20310321T163000
DTEND;TZID=Europe/Amsterdam:20310321T180000
DTSTAMP:20260422T041241
CREATED:20260330T105312Z
LAST-MODIFIED:20260403T173356Z
UID:10005891-1931877000-1931882400@studiooostwest.nl
SUMMARY:Twee-wekelijks op vrijdag: Energetische meditatie door Sylvia Tuankotta
DESCRIPTION:Introductie in Energetische Meditatie met Sylvia Tuankotta. Sylvia is Energetisch Therapeut en Trainer Energetische Meditatie.De druk van buitenaf (relaties\, werk) en van binnenuit (emoties\, kwalen\, ziekten) werkt stagnerend op onze energie. Het lijkt of al die invloeden je overkomen. Door Energetische Meditatie geef je bewust sturing aan je bestaan. Je gaat ‘lichter’ leven!  Je combineert op een praktische manier het mediteren met energetische oefeningen. Kom eens langs op een vrijdag om af te schalen van misschien wel een drukke week en laat je inspireren! Zie voor meer info en uitleg: www.tuankotta.nlInloop: Vanaf 16.00 uurKosten: Euro 20\,00 per workshopLocatie: Studio Oost West\, Westblaak 122 Unit C\, Ruimte: Nieuwe Haven op de begane grond
URL:https://studiooostwest.nl/activiteit/wekelijks-op-vrijdag-energetische-meditatie-door-sylvia-tuankotta/2031-03-21/
ORGANIZER;CN="Sylvia Tuankotta":MAILTO:sylvia@tuankotta.nl
END:VEVENT
BEGIN:VEVENT
DTSTART;TZID=Europe/Amsterdam:20310324T090000
DTEND;TZID=Europe/Amsterdam:20310324T101500
DTSTAMP:20260422T041241
CREATED:20260323T162011Z
LAST-MODIFIED:20260417T083501Z
UID:10006681-1932109200-1932113700@studiooostwest.nl
SUMMARY:Hatha Yoga met Geesje
DESCRIPTION:Hatha Yoga is een wekelijkse les op Maandag in groepsverband.  \n\n\n\nKorte omschrijving Event: Dynamische yogales zowel voor beginners als meer ervaren deelnemers. De les omvat staande\, zittende en liggende houdingen waarin de adem een centrale plaats inneemt. Prānāyāma (oefeningen in het beheersen van de adem) en meditatie zijn vaste onderdelen. Onderwerpen uit de yogafilosofie zijn regelmatig het uitgangspunt voor het thema van een les. De les eindigt met een ontspanningsoefening. \n\n\n\nMaak nu gebruik van het kennismakingsaanbod: 3 lessen voor € 30\,- \n\n\n\nMeer info: www.yogametgeesje.nl \n\n\n\nLocatie: Studio Oost West\, Westblaak 146\, 9e verdieping\, Ingang Hal A. Aanbellen: Op het toetspaneel 9 intoetsen\, dan met de pijltjes naar Shen\, dan het belsymbool intoetsen. \n\n\n\nInloop: Vanaf 9.00 uur
URL:https://studiooostwest.nl/activiteit/hatha-yoga-met-geesje-2/2031-03-24/
ORGANIZER;CN="Geesje Haensel":MAILTO:info@yogametgeesje.nl
END:VEVENT
BEGIN:VEVENT
DTSTART;TZID=Europe/Amsterdam:20310324T110000
DTEND;TZID=Europe/Amsterdam:20310324T121500
DTSTAMP:20260422T041241
CREATED:20260415T134214Z
LAST-MODIFIED:20260417T081245Z
UID:10006420-1932116400-1932120900@studiooostwest.nl
SUMMARY:Milde Yoga met Geesje
DESCRIPTION:Milde yoga is een wekelijkse les op maandagochtend in groepsverband \n\n\n\nBevat een gewone les te veel uitdaging voor je? Vanwege je leeftijd of een blessure\, dan kan een milde les toegankelijker voor je zijn. Zachtere oefeningen die minder lang worden aangehouden. Veel aandacht voor het soepel houden van de gewrichten. Je gaat uit van de mogelijkheden die jij op dit moment hebt. De les eindigt met een lange ontspanning. \n\n\n\nMaak nu gebruik van het kennismakingsaanbod: 3 lessen voor € 30\,– \n\n\n\nLocatie: Studio Oost West\, Westblaak 146\, 9e verdieping\, Ingang Hal A. Aanbellen: Op het toetspaneel 9 intoetsen\, dan met de pijltjes naar Shen\, dan het belsymbool intoetsen. \n\n\n\nInloop: Vanaf 10.45 uur
URL:https://studiooostwest.nl/activiteit/milde-yoga-met-geesje-2/2031-03-24/
ORGANIZER;CN="Geesje Haensel":MAILTO:info@yogametgeesje.nl
END:VEVENT
BEGIN:VEVENT
DTSTART;TZID=Europe/Amsterdam:20310325T200000
DTEND;TZID=Europe/Amsterdam:20310325T211500
DTSTAMP:20260422T041241
CREATED:20260325T135921Z
LAST-MODIFIED:20260325T205736Z
UID:10005719-1932235200-1932239700@studiooostwest.nl
SUMMARY:Gyrokinesis door Alina Jacobs
DESCRIPTION:De lessen vinden plaats in Studio Oost West (Shen Ruimte) \nIn de Gyrokinesis groep sessies voor volwassenen leer jij om de behoeftes van je lichaam te begrijpen en te respecteren en om zelfstandig voor je lichaam te zorgen. Ik begeleid jou naar innerlijke comfort en rust met het idee: “your body is your home”. Je gaat kennis over je lichaam vergaren\, je gaat in staat zijn om bewegingen aandachtig en bewust uit te voeren en je bouwt een repertoire aan oefeningen op waarmee je zelf vitaliteit en balans kunt genereren in je dagelijkse leven. Met mijn respectvolle en menselijke benadering gedurende het hele leer- en trainingsproces zal je gauw zowel meer geaard als lichter in je lichaam voelen. \nVoor meer informatieEmail: alina.jacobs@online.deTel: 0624539332 \nGYROTONIC® and GYROKINESIS® are registered trademarks of Gyrotonic Sales Corp and are used with their permission.
URL:https://studiooostwest.nl/activiteit/gyrokinesis-door-alina-jacobs-2/2031-03-25/
ORGANIZER;CN="Alina Jacobs":MAILTO:alina.jacobs@online.de
END:VEVENT
BEGIN:VEVENT
DTSTART;TZID=Europe/Amsterdam:20310327T194500
DTEND;TZID=Europe/Amsterdam:20310327T210000
DTSTAMP:20260422T041241
CREATED:20260225T121123Z
LAST-MODIFIED:20260416T200632Z
UID:10006160-1932407100-1932411600@studiooostwest.nl
SUMMARY:Hatha Yoga met Geesje
DESCRIPTION:Hatha Yoga is een wekelijkse les op Donderdagavond in groepsverband. \n\n\n\nKorte omschrijving Event: Dynamische yogales zowel voor beginners als meer ervaren deelnemers. De les omvat staande\, zittende en liggende houdingen waarin de adem een centrale plaats inneemt. Prānāyāma (oefeningen in het beheersen van de adem) en meditatie zijn vaste onderdelen. Onderwerpen uit de yogafilosofie zijn regelmatig het uitgangspunt voor het thema van een les. De les eindigt met een ontspanningsoefening. \n\n\n\nMaak nu gebruik van het kennismakingsaanbod: 3 lessen voor € 30\,- \n\n\n\nMeer info: www.yogametgeesje.nl \n\n\n\nLocatie: Studio Oost West\, Westblaak 146\, 9e verdieping\, Ingang Hal A. Aanbellen: Op het toetspaneel 9 intoetsen\, dan met de pijltjes naar Shen\, dan het belsymbool intoetsen. \n\n\n\nInloop: Vanaf 19.30 uur
URL:https://studiooostwest.nl/activiteit/hatha-yoga-met-geesje/2031-03-27/
ORGANIZER;CN="Geesje Haensel":MAILTO:info@yogametgeesje.nl
END:VEVENT
BEGIN:VEVENT
DTSTART;TZID=Europe/Amsterdam:20310331T090000
DTEND;TZID=Europe/Amsterdam:20310331T101500
DTSTAMP:20260422T041241
CREATED:20260323T162011Z
LAST-MODIFIED:20260417T083501Z
UID:10006682-1932714000-1932718500@studiooostwest.nl
SUMMARY:Hatha Yoga met Geesje
DESCRIPTION:Hatha Yoga is een wekelijkse les op Maandag in groepsverband.  \n\n\n\nKorte omschrijving Event: Dynamische yogales zowel voor beginners als meer ervaren deelnemers. De les omvat staande\, zittende en liggende houdingen waarin de adem een centrale plaats inneemt. Prānāyāma (oefeningen in het beheersen van de adem) en meditatie zijn vaste onderdelen. Onderwerpen uit de yogafilosofie zijn regelmatig het uitgangspunt voor het thema van een les. De les eindigt met een ontspanningsoefening. \n\n\n\nMaak nu gebruik van het kennismakingsaanbod: 3 lessen voor € 30\,- \n\n\n\nMeer info: www.yogametgeesje.nl \n\n\n\nLocatie: Studio Oost West\, Westblaak 146\, 9e verdieping\, Ingang Hal A. Aanbellen: Op het toetspaneel 9 intoetsen\, dan met de pijltjes naar Shen\, dan het belsymbool intoetsen. \n\n\n\nInloop: Vanaf 9.00 uur
URL:https://studiooostwest.nl/activiteit/hatha-yoga-met-geesje-2/2031-03-31/
ORGANIZER;CN="Geesje Haensel":MAILTO:info@yogametgeesje.nl
END:VEVENT
BEGIN:VEVENT
DTSTART;TZID=Europe/Amsterdam:20310331T110000
DTEND;TZID=Europe/Amsterdam:20310331T121500
DTSTAMP:20260422T041241
CREATED:20260415T134214Z
LAST-MODIFIED:20260417T081245Z
UID:10006421-1932721200-1932725700@studiooostwest.nl
SUMMARY:Milde Yoga met Geesje
DESCRIPTION:Milde yoga is een wekelijkse les op maandagochtend in groepsverband \n\n\n\nBevat een gewone les te veel uitdaging voor je? Vanwege je leeftijd of een blessure\, dan kan een milde les toegankelijker voor je zijn. Zachtere oefeningen die minder lang worden aangehouden. Veel aandacht voor het soepel houden van de gewrichten. Je gaat uit van de mogelijkheden die jij op dit moment hebt. De les eindigt met een lange ontspanning. \n\n\n\nMaak nu gebruik van het kennismakingsaanbod: 3 lessen voor € 30\,– \n\n\n\nLocatie: Studio Oost West\, Westblaak 146\, 9e verdieping\, Ingang Hal A. Aanbellen: Op het toetspaneel 9 intoetsen\, dan met de pijltjes naar Shen\, dan het belsymbool intoetsen. \n\n\n\nInloop: Vanaf 10.45 uur
URL:https://studiooostwest.nl/activiteit/milde-yoga-met-geesje-2/2031-03-31/
ORGANIZER;CN="Geesje Haensel":MAILTO:info@yogametgeesje.nl
END:VEVENT
BEGIN:VEVENT
DTSTART;TZID=Europe/Amsterdam:20310403T194500
DTEND;TZID=Europe/Amsterdam:20310403T210000
DTSTAMP:20260422T041241
CREATED:20260225T121123Z
LAST-MODIFIED:20260416T200632Z
UID:10006161-1933011900-1933016400@studiooostwest.nl
SUMMARY:Hatha Yoga met Geesje
DESCRIPTION:Hatha Yoga is een wekelijkse les op Donderdagavond in groepsverband. \n\n\n\nKorte omschrijving Event: Dynamische yogales zowel voor beginners als meer ervaren deelnemers. De les omvat staande\, zittende en liggende houdingen waarin de adem een centrale plaats inneemt. Prānāyāma (oefeningen in het beheersen van de adem) en meditatie zijn vaste onderdelen. Onderwerpen uit de yogafilosofie zijn regelmatig het uitgangspunt voor het thema van een les. De les eindigt met een ontspanningsoefening. \n\n\n\nMaak nu gebruik van het kennismakingsaanbod: 3 lessen voor € 30\,- \n\n\n\nMeer info: www.yogametgeesje.nl \n\n\n\nLocatie: Studio Oost West\, Westblaak 146\, 9e verdieping\, Ingang Hal A. Aanbellen: Op het toetspaneel 9 intoetsen\, dan met de pijltjes naar Shen\, dan het belsymbool intoetsen. \n\n\n\nInloop: Vanaf 19.30 uur
URL:https://studiooostwest.nl/activiteit/hatha-yoga-met-geesje/2031-04-03/
ORGANIZER;CN="Geesje Haensel":MAILTO:info@yogametgeesje.nl
END:VEVENT
BEGIN:VEVENT
DTSTART;TZID=Europe/Amsterdam:20310407T090000
DTEND;TZID=Europe/Amsterdam:20310407T101500
DTSTAMP:20260422T041241
CREATED:20260323T162011Z
LAST-MODIFIED:20260417T083501Z
UID:10006683-1933318800-1933323300@studiooostwest.nl
SUMMARY:Hatha Yoga met Geesje
DESCRIPTION:Hatha Yoga is een wekelijkse les op Maandag in groepsverband.  \n\n\n\nKorte omschrijving Event: Dynamische yogales zowel voor beginners als meer ervaren deelnemers. De les omvat staande\, zittende en liggende houdingen waarin de adem een centrale plaats inneemt. Prānāyāma (oefeningen in het beheersen van de adem) en meditatie zijn vaste onderdelen. Onderwerpen uit de yogafilosofie zijn regelmatig het uitgangspunt voor het thema van een les. De les eindigt met een ontspanningsoefening. \n\n\n\nMaak nu gebruik van het kennismakingsaanbod: 3 lessen voor € 30\,- \n\n\n\nMeer info: www.yogametgeesje.nl \n\n\n\nLocatie: Studio Oost West\, Westblaak 146\, 9e verdieping\, Ingang Hal A. Aanbellen: Op het toetspaneel 9 intoetsen\, dan met de pijltjes naar Shen\, dan het belsymbool intoetsen. \n\n\n\nInloop: Vanaf 9.00 uur
URL:https://studiooostwest.nl/activiteit/hatha-yoga-met-geesje-2/2031-04-07/
ORGANIZER;CN="Geesje Haensel":MAILTO:info@yogametgeesje.nl
END:VEVENT
BEGIN:VEVENT
DTSTART;TZID=Europe/Amsterdam:20310407T110000
DTEND;TZID=Europe/Amsterdam:20310407T121500
DTSTAMP:20260422T041241
CREATED:20260415T134214Z
LAST-MODIFIED:20260417T081245Z
UID:10006422-1933326000-1933330500@studiooostwest.nl
SUMMARY:Milde Yoga met Geesje
DESCRIPTION:Milde yoga is een wekelijkse les op maandagochtend in groepsverband \n\n\n\nBevat een gewone les te veel uitdaging voor je? Vanwege je leeftijd of een blessure\, dan kan een milde les toegankelijker voor je zijn. Zachtere oefeningen die minder lang worden aangehouden. Veel aandacht voor het soepel houden van de gewrichten. Je gaat uit van de mogelijkheden die jij op dit moment hebt. De les eindigt met een lange ontspanning. \n\n\n\nMaak nu gebruik van het kennismakingsaanbod: 3 lessen voor € 30\,– \n\n\n\nLocatie: Studio Oost West\, Westblaak 146\, 9e verdieping\, Ingang Hal A. Aanbellen: Op het toetspaneel 9 intoetsen\, dan met de pijltjes naar Shen\, dan het belsymbool intoetsen. \n\n\n\nInloop: Vanaf 10.45 uur
URL:https://studiooostwest.nl/activiteit/milde-yoga-met-geesje-2/2031-04-07/
ORGANIZER;CN="Geesje Haensel":MAILTO:info@yogametgeesje.nl
END:VEVENT
BEGIN:VEVENT
DTSTART;TZID=Europe/Amsterdam:20310410T194500
DTEND;TZID=Europe/Amsterdam:20310410T210000
DTSTAMP:20260422T041241
CREATED:20260225T121123Z
LAST-MODIFIED:20260416T200632Z
UID:10006162-1933616700-1933621200@studiooostwest.nl
SUMMARY:Hatha Yoga met Geesje
DESCRIPTION:Hatha Yoga is een wekelijkse les op Donderdagavond in groepsverband. \n\n\n\nKorte omschrijving Event: Dynamische yogales zowel voor beginners als meer ervaren deelnemers. De les omvat staande\, zittende en liggende houdingen waarin de adem een centrale plaats inneemt. Prānāyāma (oefeningen in het beheersen van de adem) en meditatie zijn vaste onderdelen. Onderwerpen uit de yogafilosofie zijn regelmatig het uitgangspunt voor het thema van een les. De les eindigt met een ontspanningsoefening. \n\n\n\nMaak nu gebruik van het kennismakingsaanbod: 3 lessen voor € 30\,- \n\n\n\nMeer info: www.yogametgeesje.nl \n\n\n\nLocatie: Studio Oost West\, Westblaak 146\, 9e verdieping\, Ingang Hal A. Aanbellen: Op het toetspaneel 9 intoetsen\, dan met de pijltjes naar Shen\, dan het belsymbool intoetsen. \n\n\n\nInloop: Vanaf 19.30 uur
URL:https://studiooostwest.nl/activiteit/hatha-yoga-met-geesje/2031-04-10/
ORGANIZER;CN="Geesje Haensel":MAILTO:info@yogametgeesje.nl
END:VEVENT
BEGIN:VEVENT
DTSTART;TZID=Europe/Amsterdam:20310414T090000
DTEND;TZID=Europe/Amsterdam:20310414T101500
DTSTAMP:20260422T041241
CREATED:20260323T162011Z
LAST-MODIFIED:20260417T083501Z
UID:10006684-1933923600-1933928100@studiooostwest.nl
SUMMARY:Hatha Yoga met Geesje
DESCRIPTION:Hatha Yoga is een wekelijkse les op Maandag in groepsverband.  \n\n\n\nKorte omschrijving Event: Dynamische yogales zowel voor beginners als meer ervaren deelnemers. De les omvat staande\, zittende en liggende houdingen waarin de adem een centrale plaats inneemt. Prānāyāma (oefeningen in het beheersen van de adem) en meditatie zijn vaste onderdelen. Onderwerpen uit de yogafilosofie zijn regelmatig het uitgangspunt voor het thema van een les. De les eindigt met een ontspanningsoefening. \n\n\n\nMaak nu gebruik van het kennismakingsaanbod: 3 lessen voor € 30\,- \n\n\n\nMeer info: www.yogametgeesje.nl \n\n\n\nLocatie: Studio Oost West\, Westblaak 146\, 9e verdieping\, Ingang Hal A. Aanbellen: Op het toetspaneel 9 intoetsen\, dan met de pijltjes naar Shen\, dan het belsymbool intoetsen. \n\n\n\nInloop: Vanaf 9.00 uur
URL:https://studiooostwest.nl/activiteit/hatha-yoga-met-geesje-2/2031-04-14/
ORGANIZER;CN="Geesje Haensel":MAILTO:info@yogametgeesje.nl
END:VEVENT
BEGIN:VEVENT
DTSTART;TZID=Europe/Amsterdam:20310414T110000
DTEND;TZID=Europe/Amsterdam:20310414T121500
DTSTAMP:20260422T041241
CREATED:20260415T134214Z
LAST-MODIFIED:20260417T081245Z
UID:10006423-1933930800-1933935300@studiooostwest.nl
SUMMARY:Milde Yoga met Geesje
DESCRIPTION:Milde yoga is een wekelijkse les op maandagochtend in groepsverband \n\n\n\nBevat een gewone les te veel uitdaging voor je? Vanwege je leeftijd of een blessure\, dan kan een milde les toegankelijker voor je zijn. Zachtere oefeningen die minder lang worden aangehouden. Veel aandacht voor het soepel houden van de gewrichten. Je gaat uit van de mogelijkheden die jij op dit moment hebt. De les eindigt met een lange ontspanning. \n\n\n\nMaak nu gebruik van het kennismakingsaanbod: 3 lessen voor € 30\,– \n\n\n\nLocatie: Studio Oost West\, Westblaak 146\, 9e verdieping\, Ingang Hal A. Aanbellen: Op het toetspaneel 9 intoetsen\, dan met de pijltjes naar Shen\, dan het belsymbool intoetsen. \n\n\n\nInloop: Vanaf 10.45 uur
URL:https://studiooostwest.nl/activiteit/milde-yoga-met-geesje-2/2031-04-14/
ORGANIZER;CN="Geesje Haensel":MAILTO:info@yogametgeesje.nl
END:VEVENT
END:VCALENDAR