BEGIN:VCALENDAR
VERSION:2.0
PRODID:-//studiooostwest.nl - ECPv6.15.20//NONSGML v1.0//EN
CALSCALE:GREGORIAN
METHOD:PUBLISH
X-ORIGINAL-URL:https://studiooostwest.nl
X-WR-CALDESC:Evenementen voor studiooostwest.nl
REFRESH-INTERVAL;VALUE=DURATION:PT1H
X-Robots-Tag:noindex
X-PUBLISHED-TTL:PT1H
BEGIN:VTIMEZONE
TZID:Europe/Amsterdam
BEGIN:DAYLIGHT
TZOFFSETFROM:+0100
TZOFFSETTO:+0200
TZNAME:CEST
DTSTART:20300331T010000
END:DAYLIGHT
BEGIN:STANDARD
TZOFFSETFROM:+0200
TZOFFSETTO:+0100
TZNAME:CET
DTSTART:20301027T010000
END:STANDARD
BEGIN:DAYLIGHT
TZOFFSETFROM:+0100
TZOFFSETTO:+0200
TZNAME:CEST
DTSTART:20310330T010000
END:DAYLIGHT
BEGIN:STANDARD
TZOFFSETFROM:+0200
TZOFFSETTO:+0100
TZNAME:CET
DTSTART:20311026T010000
END:STANDARD
BEGIN:DAYLIGHT
TZOFFSETFROM:+0100
TZOFFSETTO:+0200
TZNAME:CEST
DTSTART:20320328T010000
END:DAYLIGHT
BEGIN:STANDARD
TZOFFSETFROM:+0200
TZOFFSETTO:+0100
TZNAME:CET
DTSTART:20321031T010000
END:STANDARD
END:VTIMEZONE
BEGIN:VEVENT
DTSTART;TZID=Europe/Amsterdam:20310313T194500
DTEND;TZID=Europe/Amsterdam:20310313T210000
DTSTAMP:20260422T024006
CREATED:20260225T121123Z
LAST-MODIFIED:20260416T200632Z
UID:10006158-1931197500-1931202000@studiooostwest.nl
SUMMARY:Hatha Yoga met Geesje
DESCRIPTION:Hatha Yoga is een wekelijkse les op Donderdagavond in groepsverband. \n\n\n\nKorte omschrijving Event: Dynamische yogales zowel voor beginners als meer ervaren deelnemers. De les omvat staande\, zittende en liggende houdingen waarin de adem een centrale plaats inneemt. Prānāyāma (oefeningen in het beheersen van de adem) en meditatie zijn vaste onderdelen. Onderwerpen uit de yogafilosofie zijn regelmatig het uitgangspunt voor het thema van een les. De les eindigt met een ontspanningsoefening. \n\n\n\nMaak nu gebruik van het kennismakingsaanbod: 3 lessen voor € 30\,- \n\n\n\nMeer info: www.yogametgeesje.nl \n\n\n\nLocatie: Studio Oost West\, Westblaak 146\, 9e verdieping\, Ingang Hal A. Aanbellen: Op het toetspaneel 9 intoetsen\, dan met de pijltjes naar Shen\, dan het belsymbool intoetsen. \n\n\n\nInloop: Vanaf 19.30 uur
URL:https://studiooostwest.nl/activiteit/hatha-yoga-met-geesje/2031-03-13/
ORGANIZER;CN="Geesje Haensel":MAILTO:info@yogametgeesje.nl
END:VEVENT
END:VCALENDAR